BEGIN:VCALENDAR
VERSION:2.0
PRODID:-//歐立威科技 - ECPv6.15.12.2//NONSGML v1.0//EN
CALSCALE:GREGORIAN
METHOD:PUBLISH
X-ORIGINAL-URL:https://www.omniwaresoft.com.tw
X-WR-CALDESC:Events for 歐立威科技
REFRESH-INTERVAL;VALUE=DURATION:PT1H
X-Robots-Tag:noindex
X-PUBLISHED-TTL:PT1H
BEGIN:VTIMEZONE
TZID:Asia/Shanghai
BEGIN:STANDARD
TZOFFSETFROM:+0800
TZOFFSETTO:+0800
TZNAME:CST
DTSTART:20230101T000000
END:STANDARD
END:VTIMEZONE
BEGIN:VEVENT
DTSTART;TZID=Asia/Shanghai:20240717T110000
DTEND;TZID=Asia/Shanghai:20240717T120000
DTSTAMP:20260422T205957
CREATED:20240626T033511Z
LAST-MODIFIED:20240626T033511Z
UID:43147-1721214000-1721217600@www.omniwaresoft.com.tw
SUMMARY:Elastic Stack (ELK) 智能平台：從高效能 AI 搜索到全面監控與安全防護
DESCRIPTION:活動介紹: \n本場研討會邀請 Elastic 原廠講師，深入探索如何利用 Elastic Stack (ELK) 建構一個強大的數據處理平台，從高效能 AI 搜索到全面的監控與安全防護。 \n首先，講師會介紹 Elasticsearch 如何透過 RAG 模型 (檢索增強生成) 提供精確的搜索結果。接著，講解 ELK Observability (全面觀測性) 和 APM (效能監控) 如何進行全面系統監控與性能管理，並展示機器學習如何助力預測性維護。 \n最後，探討 ELK 在安全領域 (資安) 的應用，著重於 SIEM 和 EDR 技術的整合，以及 AI 如何提升安全事件的檢測與回應。 \n歡迎對 Elastic\, AI 有興趣的朋友報名參加！一起探索 ELK 平台在數據智能化時代的關鍵作用！ \n? 活動議程 \n\n\n\n\n時間\n議程\n講師\n\n\n10:55~11:00\n來賓報到\n–\n\n\n11:00~11:05\nOpening\n–\n\n\n11:05~11:55\nElastic Stack (ELK) 智能平台：從高效能 AI 搜索到全面監控與安全防護\nElastic資深架構師 Jason\n\n\n11:55~12:00\nQA\nElastic資深架構師 Jason\n\n\n\n\n本活動完全免費並在線上進行，歡迎對 Elastic\, AI 有興趣的朋友參與。 \n因活動有人數限制，報名後須經審核，通過審核後會議連結會寄至報名信箱，請留意！ \n未通過者不另行通知，祈請見諒。 \n?請以公司信箱報名以加速審核 \n立刻報名\n 
URL:https://www.omniwaresoft.com.tw/calendar-event/elastic-webinar-20240717/
CATEGORIES:2024 活動
ATTACH;FMTTYPE=image/png:https://www.omniwaresoft.com.tw/wp-content/uploads/2024/06/717-Elastic-Stack-1.png
END:VEVENT
BEGIN:VEVENT
DTSTART;TZID=Asia/Shanghai:20240731T110000
DTEND;TZID=Asia/Shanghai:20240731T120000
DTSTAMP:20260422T205957
CREATED:20240703T070917Z
LAST-MODIFIED:20240703T070917Z
UID:43157-1722423600-1722427200@www.omniwaresoft.com.tw
SUMMARY:Elastic AI-Driven XDR：應對「未知」！AI 加速資安事件 Response
DESCRIPTION:活動介紹: \n當今的資安環境日益複雜，各種新型態的威脅層出不窮。 \n本場研討會，Elastic 原廠講師將深入探討 Elastic 的 AI 驅動擴展偵測與響應（XDR）技術，如何幫助企業有效地探測和應對未曾見過的資安威脅。 \n你將了解 Elastic XDR 如何整合多種數據來源，利用 AI 和機器學習技術，自動化威脅偵測過程，並提供實時的威脅分析和回應建議。 \n此外，講師也會展示實際案例，說明如何利用 Elastic XDR 大幅縮短資安事件的響應時間，從而減少潛在的損失並提升整體的資安防護能力。 \n對 Elastic Security 或資安感興趣的夥伴，歡迎報名參加，和我們一起探索 AI 驅動的資安新時代！ \n? 活動議程 \n\n\n\n\n時間\n議程\n講師\n\n\n10:55~11:00\n來賓報到\n–\n\n\n11:00~11:05\nOpening\n–\n\n\n11:05~11:55\nElastic AI-Driven XDR：\n應對「未知」！ AI 加速資安事件 Response\nElastic\n資深架構師\nJason\n\n\n11:55~12:00\nQA\nElastic\n資深架構師\nJason\n\n\n\n\n本活動完全免費並在線上進行，歡迎對 Elastic\, AI\, Security 有興趣的朋友參與。 \n因活動有人數限制，報名後須經審核，通過審核後會議連結會寄至報名信箱，請留意！ \n未通過者不另行通知，祈請見諒。 \n?請以公司信箱報名以加速審核 \n立刻報名\n 
URL:https://www.omniwaresoft.com.tw/calendar-event/elastic-webinar-20240731/
CATEGORIES:2024 活動
ATTACH;FMTTYPE=image/jpeg:https://www.omniwaresoft.com.tw/wp-content/uploads/2024/07/731-Elastic-Security-scaled.jpg
END:VEVENT
END:VCALENDAR