BEGIN:VCALENDAR
VERSION:2.0
PRODID:-//歐立威科技 - ECPv6.15.12.2//NONSGML v1.0//EN
CALSCALE:GREGORIAN
METHOD:PUBLISH
X-WR-CALNAME:歐立威科技
X-ORIGINAL-URL:https://www.omniwaresoft.com.tw
X-WR-CALDESC:Events for 歐立威科技
REFRESH-INTERVAL;VALUE=DURATION:PT1H
X-Robots-Tag:noindex
X-PUBLISHED-TTL:PT1H
BEGIN:VTIMEZONE
TZID:Asia/Shanghai
BEGIN:STANDARD
TZOFFSETFROM:+0800
TZOFFSETTO:+0800
TZNAME:CST
DTSTART:20230101T000000
END:STANDARD
END:VTIMEZONE
BEGIN:VEVENT
DTSTART;TZID=Asia/Shanghai:20240605T110000
DTEND;TZID=Asia/Shanghai:20240605T120000
DTSTAMP:20260423T001907
CREATED:20240521T024731Z
LAST-MODIFIED:20240521T024731Z
UID:42482-1717585200-1717588800@www.omniwaresoft.com.tw
SUMMARY:Pentaho 資料目錄 – 企業啟動資料治理的第一步
DESCRIPTION:活動介紹: \n資料是 AI 模型與技術中重要的一環，而資料的蒐集、儲存、存取、應用、權限控管等，則需要資料治理 (Data Governance) 的制度，讓資料發揮最大價值。 \n然而根據 Gartner 2020 年的報告，高達 42% 的組織在實踐資料治理遭遇困難，原因是「難以接觸、衡量、監控資料與分析結果」。 \n因此，企業實踐資料治理的第一步，是先建立「資料目錄 (data catalog)」。 \n什麼是資料目錄？ \n資料目錄是組織中所有資料資產的清單，它幫助資料專業人員為任何分析或業務目的找到最相關的資料。資料目錄使用元資料來建立一個組織中所有資料資產的資訊和可搜尋清單。（資料來源） \nPentaho Data Catalog 可以自動尋找、分析和標記結構化和非結構化資料，並將商業術語和資料治理策略結合，協助企業開啟資料治理的第一步。 \n本場研討會我們邀請 Pentaho 原廠講師，介紹以下內容： \n\n資料治理、資料目錄介紹\n如何構建資料目錄\nPentaho Data Catalog 應用案例\nReference Data Management\n\n歡迎對 Pentaho\, 資料治理\, 資料目錄有興趣的朋友報名參加！ \n? 活動議程 \n\n\n\n\n時間\n議程\n講師\n\n\n10:55~11:00\n來賓報到\n–\n\n\n11:00~11:05\nOpening\n–\n\n\n11:05~11:55\nPentaho 資料目錄 – 啟動企業資料治理的第一步\nPentaho\n資深大數據架構師\nRichie\n\n\n11:55~12:00\nQA\nPentaho\n資深大數據架構師\nRichie\n\n\n\n\n本活動完全免費並在線上進行，歡迎對 Pentaho\, 資料治理\, 資料目錄有興趣的朋友參與。 \n因活動有人數限制，報名後須經審核，通過審核後會議連結會寄至報名信箱，請留意！ \n未通過者不另行通知，祈請見諒。 \n?請以公司信箱報名以加速審核 \n立刻報名\n 
URL:https://www.omniwaresoft.com.tw/calendar-event/pentaho-webinar-20240605/
CATEGORIES:2024 活動
ATTACH;FMTTYPE=image/png:https://www.omniwaresoft.com.tw/wp-content/uploads/2024/05/65-Pentaho-資料目錄.png
END:VEVENT
END:VCALENDAR