BEGIN:VCALENDAR
VERSION:2.0
PRODID:-//歐立威科技 - ECPv6.15.12.2//NONSGML v1.0//EN
CALSCALE:GREGORIAN
METHOD:PUBLISH
X-ORIGINAL-URL:https://www.omniwaresoft.com.tw
X-WR-CALDESC:Events for 歐立威科技
REFRESH-INTERVAL;VALUE=DURATION:PT1H
X-Robots-Tag:noindex
X-PUBLISHED-TTL:PT1H
BEGIN:VTIMEZONE
TZID:Asia/Shanghai
BEGIN:STANDARD
TZOFFSETFROM:+0800
TZOFFSETTO:+0800
TZNAME:CST
DTSTART:20230101T000000
END:STANDARD
END:VTIMEZONE
BEGIN:VEVENT
DTSTART;TZID=Asia/Shanghai:20240619T110000
DTEND;TZID=Asia/Shanghai:20240619T120000
DTSTAMP:20260423T002308
CREATED:20240524T122233Z
LAST-MODIFIED:20240524T122233Z
UID:42709-1718794800-1718798400@www.omniwaresoft.com.tw
SUMMARY:Greenplum 7 正式發布！新功能介紹，效能、安全性大升級！
DESCRIPTION:活動介紹: \nVMware Greenplum 7.0 在 2023.3 正式上線，除了從 Greenplum 6 升級到 Greenplum 7 以外，底層的 Postgres 也從 9.4 版本升級到 12.12 版本，促使 Greenplum 7 在功能及效能上都有大幅度提升。 \n本場研討會將介紹 Greenplum 7 的新功能及特色，包含以下內容： \n\nPostgres 支援性提升，增加 Postgres 上可使用的擴充功能，如 Greenplum fdw、pg_cron 等\n安全性提升，RLS 及審計、監控功能\n管理效能提升，分區表效能提升及 Statement 執行計畫優化\n併行處理優化，resource group 增加 Disk I/O 設定\n效能提升，新增 BRIN 索引功能\n\n歡迎對 Greenplum\, PostgreSQL 有興趣的朋友報名參加！ \n? 活動議程 \n\n\n\n\n時間\n議程\n講師\n\n\n10:55~11:00\n來賓報到\n–\n\n\n11:00~11:05\nOpening\n–\n\n\n11:05~11:55\nGreenplum 7 正式發布！\n新功能介紹，效能、安全性大升級！\n歐立威科技\n技術經理 Taco\n\n\n11:55~12:00\nQA\n歐立威科技\n技術經理 Taco\n\n\n\n\n本活動完全免費並在線上進行，歡迎對 Greenplum\, PostgreSQL 有興趣的朋友參與。 \n因活動有人數限制，報名後須經審核，通過審核後會議連結會寄至報名信箱，請留意！ \n未通過者不另行通知，祈請見諒。 \n?請以公司信箱報名以加速審核 \n立刻報名\n 
URL:https://www.omniwaresoft.com.tw/calendar-event/greenplum-webinar-20240619/
CATEGORIES:2024 活動
ATTACH;FMTTYPE=image/png:https://www.omniwaresoft.com.tw/wp-content/uploads/2024/05/619-Greenplum-7-e1721184431944.png
END:VEVENT
END:VCALENDAR