BEGIN:VCALENDAR
VERSION:2.0
PRODID:-//歐立威科技 - ECPv6.15.12.2//NONSGML v1.0//EN
CALSCALE:GREGORIAN
METHOD:PUBLISH
X-ORIGINAL-URL:https://www.omniwaresoft.com.tw
X-WR-CALDESC:Events for 歐立威科技
REFRESH-INTERVAL;VALUE=DURATION:PT1H
X-Robots-Tag:noindex
X-PUBLISHED-TTL:PT1H
BEGIN:VTIMEZONE
TZID:Asia/Shanghai
BEGIN:STANDARD
TZOFFSETFROM:+0800
TZOFFSETTO:+0800
TZNAME:CST
DTSTART:20230101T000000
END:STANDARD
END:VTIMEZONE
BEGIN:VEVENT
DTSTART;TZID=Asia/Shanghai:20240626T110000
DTEND;TZID=Asia/Shanghai:20240626T120000
DTSTAMP:20260423T002415
CREATED:20240604T093056Z
LAST-MODIFIED:20240604T094946Z
UID:43009-1719399600-1719403200@www.omniwaresoft.com.tw
SUMMARY:Elastic Vector Search x Search AI: 向量及語義搜尋，解放 GenAI 全部潛能
DESCRIPTION:活動介紹: \n在 GenAI 的潮流下，語義及向量搜尋 (Vector Search) 技術顯得尤為關鍵。 \n向量搜尋可以實現高效的相似度匹配，藉由語義搜尋理解使用者意圖，讓我們能夠更精準地提供個性化和智能化的內容推薦，提升搜尋體驗。 \n此外，生成式人工智慧（GenAI）能夠利用更準確的搜尋結果，突破傳統聊天機器人的局限性，提供更自然、更流暢的對話互動。 \n這些技術的結合不僅改變了既有聊天機器人的缺點，還能在客服、教育、醫療等多個領域實現真正的應用落地。這些創新 AI 應用，協助推動各行各業的數位轉型，提升整體營運效率和使用者滿意度，充分發揮生成式人工智慧的潛力。 \n這場研討會 Elastic 原廠講師將介紹 Vector Search，以及如何賦能 GenAI。 \n歡迎對 Elastic\, AI 有興趣的朋友報名參加！ \n? 活動議程 \n\n\n\n\n時間\n議程\n時間\n\n\n10:55~11:00\n來賓報到\n–\n\n\n11:00~11:05\nOpening\n–\n\n\n11:05~11:55\nVector Search x Search AI:\n向量及語義搜尋，解放 GenAI 全部潛能\nElastic\n資深架構師\nJason\n\n\n11:55~12:00\nQA\nElastic\n資深架構師\nJason\n\n\n\n\n本活動完全免費並在線上進行，歡迎對 Elastic\, AI 有興趣的朋友參與。 \n因活動有人數限制，報名後須經審核，通過審核後會議連結會寄至報名信箱，請留意！ \n未通過者不另行通知，祈請見諒。 \n?請以公司信箱報名以加速審核 \n立刻報名\n 
URL:https://www.omniwaresoft.com.tw/calendar-event/elastic-webinar-20240626/
CATEGORIES:2024 活動
ATTACH;FMTTYPE=image/png:https://www.omniwaresoft.com.tw/wp-content/uploads/2024/06/626-Elastic-Vector-Search-e1721184717183.png
END:VEVENT
END:VCALENDAR