BEGIN:VCALENDAR
VERSION:2.0
PRODID:-//歐立威科技 - ECPv6.15.12.2//NONSGML v1.0//EN
CALSCALE:GREGORIAN
METHOD:PUBLISH
X-ORIGINAL-URL:https://www.omniwaresoft.com.tw
X-WR-CALDESC:Events for 歐立威科技
REFRESH-INTERVAL;VALUE=DURATION:PT1H
X-Robots-Tag:noindex
X-PUBLISHED-TTL:PT1H
BEGIN:VTIMEZONE
TZID:Asia/Shanghai
BEGIN:STANDARD
TZOFFSETFROM:+0800
TZOFFSETTO:+0800
TZNAME:CST
DTSTART:20230101T000000
END:STANDARD
END:VTIMEZONE
BEGIN:VEVENT
DTSTART;TZID=Asia/Shanghai:20241002T110000
DTEND;TZID=Asia/Shanghai:20241002T120000
DTSTAMP:20260423T065447
CREATED:20240830T080218Z
LAST-MODIFIED:20240910T082934Z
UID:43307-1727866800-1727870400@www.omniwaresoft.com.tw
SUMMARY:打造不中斷的企業核心：EDB Postgres Distributed 雙活高可用解決方案
DESCRIPTION:活動介紹: \n\n在數據驅動的時代，PostgreSQL 正快速崛起，成為許多企業關鍵營運系統的首選。然而，當系統服務不能中斷時，你是否已經準備好面對挑戰？如何保障資料的一致性和服務的不中斷，成為每個技術專業人員的關鍵課題。 \n\n\n\nEDB Postgres Distributed 提供了業界領先的多讀寫節點資料同步解決方案，能夠構建跨區域的高可用叢集，實現 99.999% 的持續服務時間，讓你的企業核心系統無懈可擊。其強大的功能包括： \n\n\n\n\n資料庫物件同步 (DDL Replication) ：確保所有節點上的資料庫結構一致。\n\n\n\n內建的資料衝突自動解決機制 (Conflict Resolution)：有效避免資料不一致問題。\n\n\n\n全域序列號 (Global Sequence)：確保跨節點的序列號唯一性\n\n\n\n零衝突同步的資料欄位 (CRDT)：確保節點之間同步一致的資料欄位型態。\n\n\n\n資料交易提交的視野控制 (Commit Scope)：靈活控制交易提交的範圍。\n\n\n\n\n活動亮點： \n\n\n\n\n深入解析 EDB Postgres Distributed 架構與關鍵功能。\n\n\n\n現場演示簡易且高效的衝突解決方法。\n\n\n\n與技術專家直接對話，解決你的實際問題。\n\n\n\n\n不論你是資料庫管理員、系統架構師，還是技術負責人，這次研討會將為你提供寶貴的實戰經驗和解決方案，助你打造不中斷的企業核心。 \n\n? 活動議程 \n\n\n\n\n時間\n議程\n講師\n\n\n10:55~11:00\n來賓報到\n–\n\n\n11:00~11:05\nOpening\n–\n\n\n11:05~11:55\n打造不中斷的企業核心：EDB Postgres Distributed 雙活高可用解決方案\n歐立威科技技術顧問 Brandon\n\n\n11:55~12:00\nQA\n歐立威科技技術顧問 Brandon\n\n\n\n\n本活動完全免費並在線上進行，歡迎對 EDB / Postgres 有興趣的朋友參與。 因活動有人數限制，報名後須經審核，通過審核後會議連結會寄至報名信箱，請留意！ 未通過者不另行通知，祈請見諒。 \n?請以公司信箱報名以加速審核 \n立刻報名\n 
URL:https://www.omniwaresoft.com.tw/calendar-event/edb-webinar-20241005/
CATEGORIES:2024 活動
ATTACH;FMTTYPE=image/jpeg:https://www.omniwaresoft.com.tw/wp-content/uploads/2024/08/1002-EDB-Postgres-Distributed.jpg
END:VEVENT
BEGIN:VEVENT
DTSTART;TZID=Asia/Shanghai:20241016T110000
DTEND;TZID=Asia/Shanghai:20241016T120000
DTSTAMP:20260423T065447
CREATED:20240910T082831Z
LAST-MODIFIED:20240910T085536Z
UID:43317-1729076400-1729080000@www.omniwaresoft.com.tw
SUMMARY:從數據到智慧：ELK在AI/ML的產業應用案例分享
DESCRIPTION:活動介紹: \n\n隨著人工智慧（AI）與機器學習（ML）技術的迅速發展，企業越來越依賴數據來推動創新，提升競爭力。在這波數據驅動的轉型浪潮中，Elasticsearch、Logstash、Kibana（ELK Stack）作為開源數據平台的領導者，正在AI/ML領域中發揮著至關重要的作用。 \n\n\n\n本次線上研討會將深入解析ELK Stack在不同產業中的應用，透過實際案例展示其如何協助企業解決具體問題、優化業務流程，並實現數據價值的最大化。無論您是AI/ML專案的技術領導者、數據分析師，還是對ELK Stack感興趣的專業人士，這場活動都將帶來豐富的知識與啟發。 \n\n\n\n研討會亮點： \n\n\n\n\n產業洞察：深入了解ELK Stack如何應用於不同行業，解決實際業務挑戰，助力企業增強市場競爭力。\n\n\n\n技術深度：掌握ELK Stack在數據處理、分析、視覺化領域的核心技術，提升技術實力。\n\n\n\n最佳實踐：從真實案例中學習ELK Stack在AI/ML專案中的最佳部署策略與優化技巧。\n\n\n\n\n這是您不容錯過的機會，趕快報名，與我們一起探索如何將數據轉化為企業智慧，推動未來的數據創新！   \n\n? 活動議程 \n\n\n\n\n時間\n議程\n講師\n\n\n10:55~11:00\n來賓報到\n–\n\n\n11:00~11:05\nOpening\n–\n\n\n11:05~11:55\n從數據到智慧：ELK在AI/ML的產業應用案例分享\nElastic 資深架構師 Jason\n\n\n11:55~12:00\nQA\nElastic 資深架構師 Jason\n\n\n\n\n本活動完全免費並在線上進行，歡迎對 ELK、AI、ML 有興趣的朋友參與。 \n因活動有人數限制，報名後須經審核，通過審核後會議連結會寄至報名信箱，請留意！ 未通過者不另行通知，祈請見諒。 \n?請以公司信箱報名以加速審核 \n立刻報名\n 
URL:https://www.omniwaresoft.com.tw/calendar-event/elastic-webinar-20241016/
CATEGORIES:2024 活動
ATTACH;FMTTYPE=image/png:https://www.omniwaresoft.com.tw/wp-content/uploads/2024/09/10_16-ELK應用案例.png
END:VEVENT
BEGIN:VEVENT
DTSTART;TZID=Asia/Shanghai:20241025T140000
DTEND;TZID=Asia/Shanghai:20241025T170000
DTSTAMP:20260423T065447
CREATED:20240910T085519Z
LAST-MODIFIED:20240910T085519Z
UID:43327-1729864800-1729875600@www.omniwaresoft.com.tw
SUMMARY:【線上】Vault 實戰工作坊：配置、策略與治理，打造堅不可摧的企業級資料防護
DESCRIPTION:《免費報名》報名就抽 HashiCorp 原廠折疊雨傘 (詳見下方活動辦法)\n\n \n\n活動介紹:\n\n \n\n本次工作坊將分為兩大主題，帶領您深入探索 Vault 企業級部署與配置的關鍵技術：\n\n \n主題一：企業叢集部署與運營基礎 (約 1.5 小時)\n \n\n本主題將全面介紹 Shamir 密鑰類型，並指導您在 Vault 叢集前端部署負載平衡器。您將學習：\n\n \n\n 	\n\n 	叢集初始化與解除封印：了解 Vault 叢集的初始化過程，並學習如何安全地解除封印，確保資料的機密性。\n\n\n\n \n\n 	\n\n 	網路負載平衡器配置：學習如何在 Vault 叢集前端配置和部署網路負載平衡器，提升系統的高可用性和容錯能力。\n\n\n\n \n\n 	\n\n 	配置 AWS 自動解除封印：學習如何使用 AWS 自動解除封印功能，進一步簡化叢集管理流程，提高運營效率。\n\n\n\n \n\n 	\n\n 	叢集備份與還原：運用 Vault 的快照功能執行備份和還原操作，確保資料安全，並在災難發生時快速恢復服務。\n\n\n\n \n\n 	\n\n 	實戰演練：親自動手操作，運用自動解除封印和快照功能，鞏固所學知識。\n\n\n\n\n\n \n主題二：企業叢集配置、策略與治理 (約 1 小時)\n \n\n本主題將帶您探索 Vault Enterprise 的核心功能，學習如何建立安全且高效的 Vault 環境。您將學習：\n\n \n\n 	\n\n 	Vault 驗證：驗證 Vault 安裝，確保系統正常運作。\n\n\n\n \n\n 	\n\n 	命名空間設計與配置：了解 Vault 命名空間的原理和最佳實踐，學習如何在叢集中設計和實施高效的命名空間。\n\n\n\n \n\n 	\n\n 	配置管理員策略：認識 Vault 管理員策略的重要性，學習如何構建一個不會保留根令牌的安全管理員策略。\n\n\n\n \n\n 	\n\n 	用戶策略設計與配置：了解 Vault 策略的基本概念，並學習如何為多個用戶角色配置策略，實現精細化的權限控制。\n\n\n\n \n\n 	\n\n 	實戰演練：親自動手執行初始配置，將理論知識轉化為實踐能力。\n\n\n\n\n\n \n\n無論您是 Vault 的新手還是經驗豐富的使用者，這場工作坊都將為您提供寶貴的學習機會。立即報名，掌握 Vault 企業級部署與配置的關鍵技術，為您的組織構建安全可靠的資料管理環境！\n\n? 活動議程\n\n\n\n\n時間\n議程\n講師\n\n\n13:30~14:00\n開放加入會議室\n–\n\n\n14:00~14:05\n開場\n–\n\n\n14:05~15:35\nLab 1: 企業叢集部署與運營基礎\nHashiCorp\nSenior Solutions Engineer\nWilliam\n\n\n15:35~15:45\n中場休息\n–\n\n\n15:45~16:45\nLab 2: 企業叢集配置、策略與治理\nHashiCorp\nSenior Solutions Engineer\nWilliam\n\n\n16:45~17:00\n回顧 Lab & QA\n\n\n\n\n本活動完全免費並在線上進行，歡迎對 Vault、DevOps、資安有興趣的朋友參與。\n\n因活動有人數限制，報名後須經審核，通過審核後會議連結會寄至報名信箱，請留意！\n\n未通過者不另行通知，祈請見諒。\n\n?請以公司信箱報名以加速審核\n\n–\n\n本工作坊包含實作，參加前請注意：\n\n 	對以下 Vault 概念有一些基本的了解\n\n 	透過 CLI、GUI 或 API 和 Vault 互動\n 	Vault binary\n 	Client-Server Model\n 	Vault 身份驗證方法\n 	Vault 機密引擎 (Secrets Engines)\n 	可先觀看去年的入門工作坊錄影\n\n\n 	活動當天準備網路連線穩定的電腦\n 	活動前三天寄出 Lab 註冊郵件與行前通知，請留意報名信箱\n\n–\n\n\n\n \n\n \n\n? 報名抽好禮：報名就抽 HashiCorp 原廠折疊雨傘 (2名)\n\n \n\n活動結束後從報名名單中隨機抽出幸運參加者，贈送 HashiCorp 原廠折疊雨傘 一支！\n\n \n\n \n\n參加本活動者，即同意接受本活動辦法、注意事項 (含其更新修正內容，主辦方保留活動辦法變更調整之權力。如遇國定假日或天災等不可抗力因素，主辦單位有權變更抽獎日期及公告日期。\n\n\n立刻報名\n 
URL:https://www.omniwaresoft.com.tw/calendar-event/vault-workshop-20241025/
CATEGORIES:2024 活動
ATTACH;FMTTYPE=image/png:https://www.omniwaresoft.com.tw/wp-content/uploads/2024/09/1025_Vault實戰工作坊封面圖.png
END:VEVENT
BEGIN:VEVENT
DTSTART;TZID=Asia/Shanghai:20241211T110000
DTEND;TZID=Asia/Shanghai:20241211T120000
DTSTAMP:20260423T065447
CREATED:20241129T091719Z
LAST-MODIFIED:20241129T091858Z
UID:43499-1733914800-1733918400@www.omniwaresoft.com.tw
SUMMARY:Elasticsearch 年末終極指南：社群版 vs. 企業版，助您決勝 2025！
DESCRIPTION:活動介紹: \n\n\n\n \n? 想成為資料搜尋大師嗎？想讓系統安全固若金湯嗎？歐立威科技隆重推出Elasticsearch 年末終極指南線上研討會，帶您深入探索 Elastic Stack 的奧秘，學習如何應用於搜尋、可觀測性和安全性操作，提升效率、強化效能！ \n\n\n \n? 精彩議程 ? \n\n\n \n\nElastic Stack 簡介：\n\n揭開 Elastic Stack 核心組件的神秘面紗，了解 Elasticsearch、Logstash 和 Kibana 如何組成黃金三角，打造強大的搜尋和分析平台。\n\n\n\n學習 Elastic Stack 的基本概念和架構，輕鬆上手，快速應用。\n\n\n\n\n\nElastic 社群版的使用挑戰：\n\n社群版好用歸好用，但你知道它有哪些限制嗎？\n\n\n\n我們將深入剖析社群版常見的挑戰，例如功能限制、技術支援不足等，並提供解決方案，助您克服障礙。\n\n\n\n\n\nElastic 企業版的優勢：\n\n想體驗 Elasticsearch 的完全體嗎？企業版絕對是您的最佳選擇！\n\n\n\n我們將深入探討企業版在搜尋、可觀測性和安全性方面的進階功能和優勢，例如 Machine Learning、Security、Observability 等，發掘更多可能性。\n\n\n\n\n\nElastic 專業訓練課程介紹：\n\n想成為 Elastic 達人？專業訓練課程助您一臂之力！\n\n\n\n我們將介紹 Elastic 官方提供的專業訓練課程，包含 Elasticsearch 工程師、可觀測性工程師等認證課程，幫助您提升技能、拓展職涯。\n\n\n\n\n\n \n這場研討會適合以下人士參加： \n\n\n \n\n開發者: 想學習如何使用 Elasticsearch 建構高性能搜尋應用程式。\n\n\n\n系統管理員: 想了解如何利用 Elastic Stack 提升系統的可觀測性和安全性。\n\n\n\n資料分析師: 想學習如何使用 Elasticsearch 分析和視覺化資料。\n\n\n\nDevOps 工程師: 想了解如何將 Elasticsearch 整合到 CI/CD 流程中。\n\n\n\n對 Elasticsearch 感興趣的任何人: 想了解 Elasticsearch 的最新功能和應用案例。\n\n\n\n \n掌握數據，掌握未來！ ✨ \n\n\n \n立即報名 Elasticsearch 線上研討會，學習如何將數據轉化為企業智慧，引領數據創新！ \n\n\n \n? 參加好禮 ? \n\n\n \n\n免費參加，學習 Elasticsearch 最新技術，掌握職場競爭力！\n\n\n\n研討會簡報，複習重點內容，隨時查閱！\n\n\n\n會議線上交流，與講師和其他學員互動討論！\n\n\n\n精美禮物：報名通過就有機會得到 Elastic Polo衫 或 Elastic 棒球帽 (共10名)\n\n\n? 活動議程 \n\n\n\n\n時間\n議程\n講師\n\n\n10:55~11:00\n來賓報到\n–\n\n\n11:00~11:05\nOpening\n–\n\n\n11:05~11:55\nElasticsearch 年末終極指南：社群版 vs. 企業版，助您決勝 2025！\nElastic 資深架構師 Jason\n\n\n11:55~12:00\nQA\nElastic 資深架構師 Jason\n\n\n\n\n本活動完全免費並在線上進行，歡迎對 ELK、AI、ML 有興趣的朋友參與。 \n因活動有人數限制，報名後須經審核，通過審核後會議連結會寄至報名信箱，請留意！ 未通過者不另行通知，祈請見諒。 \n?請以公司信箱報名以加速審核 \n立刻報名\n 
URL:https://www.omniwaresoft.com.tw/calendar-event/elasticsearch%e5%b9%b4%e6%9c%ab%e7%b5%82%e6%a5%b5%e6%8c%87%e5%8d%97-%e7%a4%be%e7%be%a4%e7%89%88vs%e4%bc%81%e6%a5%ad%e7%89%88/
CATEGORIES:2024 活動
ATTACH;FMTTYPE=image/png:https://www.omniwaresoft.com.tw/wp-content/uploads/2024/11/1211_Elastic_2024webinar.png
END:VEVENT
END:VCALENDAR