BEGIN:VCALENDAR
VERSION:2.0
PRODID:-//歐立威科技 - ECPv6.15.12.2//NONSGML v1.0//EN
CALSCALE:GREGORIAN
METHOD:PUBLISH
X-ORIGINAL-URL:https://www.omniwaresoft.com.tw
X-WR-CALDESC:Events for 歐立威科技
REFRESH-INTERVAL;VALUE=DURATION:PT1H
X-Robots-Tag:noindex
X-PUBLISHED-TTL:PT1H
BEGIN:VTIMEZONE
TZID:Asia/Shanghai
BEGIN:STANDARD
TZOFFSETFROM:+0800
TZOFFSETTO:+0800
TZNAME:CST
DTSTART:20230101T000000
END:STANDARD
END:VTIMEZONE
BEGIN:VEVENT
DTSTART;TZID=Asia/Shanghai:20241211T110000
DTEND;TZID=Asia/Shanghai:20241211T120000
DTSTAMP:20260423T064838
CREATED:20241129T091719Z
LAST-MODIFIED:20241129T091858Z
UID:43499-1733914800-1733918400@www.omniwaresoft.com.tw
SUMMARY:Elasticsearch 年末終極指南：社群版 vs. 企業版，助您決勝 2025！
DESCRIPTION:活動介紹: \n\n\n\n \n? 想成為資料搜尋大師嗎？想讓系統安全固若金湯嗎？歐立威科技隆重推出Elasticsearch 年末終極指南線上研討會，帶您深入探索 Elastic Stack 的奧秘，學習如何應用於搜尋、可觀測性和安全性操作，提升效率、強化效能！ \n\n\n \n? 精彩議程 ? \n\n\n \n\nElastic Stack 簡介：\n\n揭開 Elastic Stack 核心組件的神秘面紗，了解 Elasticsearch、Logstash 和 Kibana 如何組成黃金三角，打造強大的搜尋和分析平台。\n\n\n\n學習 Elastic Stack 的基本概念和架構，輕鬆上手，快速應用。\n\n\n\n\n\nElastic 社群版的使用挑戰：\n\n社群版好用歸好用，但你知道它有哪些限制嗎？\n\n\n\n我們將深入剖析社群版常見的挑戰，例如功能限制、技術支援不足等，並提供解決方案，助您克服障礙。\n\n\n\n\n\nElastic 企業版的優勢：\n\n想體驗 Elasticsearch 的完全體嗎？企業版絕對是您的最佳選擇！\n\n\n\n我們將深入探討企業版在搜尋、可觀測性和安全性方面的進階功能和優勢，例如 Machine Learning、Security、Observability 等，發掘更多可能性。\n\n\n\n\n\nElastic 專業訓練課程介紹：\n\n想成為 Elastic 達人？專業訓練課程助您一臂之力！\n\n\n\n我們將介紹 Elastic 官方提供的專業訓練課程，包含 Elasticsearch 工程師、可觀測性工程師等認證課程，幫助您提升技能、拓展職涯。\n\n\n\n\n\n \n這場研討會適合以下人士參加： \n\n\n \n\n開發者: 想學習如何使用 Elasticsearch 建構高性能搜尋應用程式。\n\n\n\n系統管理員: 想了解如何利用 Elastic Stack 提升系統的可觀測性和安全性。\n\n\n\n資料分析師: 想學習如何使用 Elasticsearch 分析和視覺化資料。\n\n\n\nDevOps 工程師: 想了解如何將 Elasticsearch 整合到 CI/CD 流程中。\n\n\n\n對 Elasticsearch 感興趣的任何人: 想了解 Elasticsearch 的最新功能和應用案例。\n\n\n\n \n掌握數據，掌握未來！ ✨ \n\n\n \n立即報名 Elasticsearch 線上研討會，學習如何將數據轉化為企業智慧，引領數據創新！ \n\n\n \n? 參加好禮 ? \n\n\n \n\n免費參加，學習 Elasticsearch 最新技術，掌握職場競爭力！\n\n\n\n研討會簡報，複習重點內容，隨時查閱！\n\n\n\n會議線上交流，與講師和其他學員互動討論！\n\n\n\n精美禮物：報名通過就有機會得到 Elastic Polo衫 或 Elastic 棒球帽 (共10名)\n\n\n? 活動議程 \n\n\n\n\n時間\n議程\n講師\n\n\n10:55~11:00\n來賓報到\n–\n\n\n11:00~11:05\nOpening\n–\n\n\n11:05~11:55\nElasticsearch 年末終極指南：社群版 vs. 企業版，助您決勝 2025！\nElastic 資深架構師 Jason\n\n\n11:55~12:00\nQA\nElastic 資深架構師 Jason\n\n\n\n\n本活動完全免費並在線上進行，歡迎對 ELK、AI、ML 有興趣的朋友參與。 \n因活動有人數限制，報名後須經審核，通過審核後會議連結會寄至報名信箱，請留意！ 未通過者不另行通知，祈請見諒。 \n?請以公司信箱報名以加速審核 \n立刻報名\n 
URL:https://www.omniwaresoft.com.tw/calendar-event/elasticsearch%e5%b9%b4%e6%9c%ab%e7%b5%82%e6%a5%b5%e6%8c%87%e5%8d%97-%e7%a4%be%e7%be%a4%e7%89%88vs%e4%bc%81%e6%a5%ad%e7%89%88/
CATEGORIES:2024 活動
ATTACH;FMTTYPE=image/png:https://www.omniwaresoft.com.tw/wp-content/uploads/2024/11/1211_Elastic_2024webinar.png
END:VEVENT
END:VCALENDAR